BEGIN:VCALENDAR
VERSION:2.0
PRODID:-//ChamberMaster//Event Calendar 2.0//EN
METHOD:PUBLISH
X-PUBLISHED-TTL:P3D
REFRESH-INTERVAL:P3D
CALSCALE:GREGORIAN
BEGIN:VEVENT
DTSTART:20141211T230000Z
DTEND:20141212T013000Z
X-MICROSOFT-CDO-ALLDAYEVENT:FALSE
SUMMARY:Business After 5 @ The Main Mill: 12/11/14
DESCRIPTION:Business After 5 Sponsored by The Main Mill (Formerly AJ's Live)\n\nCOME JOIN US AND ENJOY FOOD\, BEVERAGE\, NETWORKING AND RAFFLES\;\n\nThe Main Mill will have $5 specialty martini's\, manhattans and old fashions and also have Marcell the Piano Man playing until 9:30 p.m. \n\n\n\nAttendees will also receive a $10 gift card to use in January.
X-ALT-DESC;FMTTYPE=text/html:<span style="font-size: 18px\;"><strong><span style="color: rgb(255\, 0\, 0)\;">Business After 5 Sponsored by The Main Mill (Formerly AJ&#39\;s Live)</span><br />\nCOME JOIN US AND ENJOY FOOD\, BEVERAGE\, NETWORKING AND RAFFLES\;<br />\nThe Main Mill will have $5 specialty martini&#39\;s\, manhattans and old fashions and also have Marcell the Piano Man playing until 9:30 p.m.&nbsp\;<br />\n<br />\nAttendees will also receive a $10 gift card to use in January.</strong></span><br />\n<br />\n<br />\n&nbsp\;
LOCATION:The Main Mill N88W16521 Main Street Menomonee Falls\, WI 53051
UID:e.596.369
SEQUENCE:3
DTSTAMP:20260420T023345Z
URL:http://business.fallschamber.com/events/details/business-after-5-the-main-mill-12-11-14-12-11-2014-369
END:VEVENT

END:VCALENDAR
