BEGIN:VCALENDAR
VERSION:2.0
PRODID:-//ChamberMaster//Event Calendar 2.0//EN
METHOD:PUBLISH
X-PUBLISHED-TTL:P3D
REFRESH-INTERVAL:P3D
CALSCALE:GREGORIAN
BEGIN:VEVENT
DTSTART:20140807T220000Z
DTEND:20140808T003000Z
X-MICROSOFT-CDO-ALLDAYEVENT:FALSE
SUMMARY:Business After 5-Sportz Pub & Grill
DESCRIPTION:August Business After 5 Sponsored by Sportz Pub & Grill\n\nSportz Pub & Grill will host a pairing with some of our most popular menu items with several hand-picked beers to accentuate your experience.  \n\nZach Silva\, Area Sales Manager for Milwaukee Brewing will take you through a delicious tour of Milwaukee Brewing's year-round beer selections (all available at your local retailer) while our talented kitchen staff prepare sample-sized portions that compliment Milwaukee Brewing's local flavor.\n\nWhether you are a seasoned "beer aficionado" or only indulge occasionally in a Miller Lite\, this event will open up your palate to many possibilities when pairing food and beer.  All of the beers featured will be available at the bar for purchase after the tasting finishes.
X-ALT-DESC;FMTTYPE=text/html:<span style="color: rgb(255\, 0\, 0)\;"><strong>August Business After 5 Sponsored by Sportz Pub &amp\; Grill</strong></span><br />\n<span style="color: rgb(0\, 0\, 205)\;"><span style="font-size: medium\;"><span style="font-family: calibri\;">Sportz Pub &amp\; Grill will host a pairing with some of our most popular menu items with several hand-picked beers to accentuate your experience.&nbsp\; </span></span><br />\n<span style="font-size: medium\;"><span style="font-family: calibri\;">Zach Silva\, Area Sales Manager for Milwaukee Brewing will take you through a delicious tour of Milwaukee Brewing&rsquo\;s year-round beer selections (all available at your local retailer) while our talented kitchen staff prepare sample-sized portions that compliment Milwaukee Brewing&rsquo\;s local flavor.</span></span><br />\n<span style="font-size: medium\;"><span style="font-family: calibri\;">Whether you are a seasoned &ldquo\;beer aficionado&rdquo\; or only indulge occasionally in a Miller Lite\, this event will open up your palate to many possibilities when pairing food and beer.&nbsp\; All of the beers featured will be available at the bar for purchase after the tasting finishes. &nbsp\;</span></span><br />\n&nbsp\;</span>
LOCATION:N80W13003 Fond du Lac Avenue Menomonee Falls\, WI 53051
UID:e.596.340
SEQUENCE:3
DTSTAMP:20260420T072412Z
URL:http://business.fallschamber.com/events/details/business-after-5-sportz-pub-grill-08-07-2014-340
END:VEVENT

END:VCALENDAR
