BEGIN:VCALENDAR
VERSION:2.0
PRODID:-//ChamberMaster//Event Calendar 2.0//EN
METHOD:PUBLISH
X-PUBLISHED-TTL:P3D
REFRESH-INTERVAL:P3D
CALSCALE:GREGORIAN
BEGIN:VEVENT
DTSTART:20140909T220000Z
DTEND:20140910T003000Z
X-MICROSOFT-CDO-ALLDAYEVENT:FALSE
SUMMARY:Business After 5 - Silver Spring Golf Club
DESCRIPTION:COME JOIN US ON THE ROOF AND ENJOY THE VIEW!\n\nSILVER SPRING GOLF CLUB IS SPONSORING THE BA5 ON SEPTEMBER 9TH!\n\n*GREAT NETWORKING\, FOOD & BEVERAGE*
X-ALT-DESC;FMTTYPE=text/html:<span style="font-size: 14px\;"><strong><span style="color: rgb(255\, 0\, 0)\;"><span style="font-size: 22px\;">COME JOIN US ON THE ROOF AND ENJOY THE VIEW!</span></span><br />\n<span style="color: rgb(0\, 0\, 255)\;">SILVER SPRING GOLF CLUB IS SPONSORING THE&nbsp\;BA5 ON SEPTEMBER 9TH!<br />\n*GREAT NETWORKING\, FOOD &amp\; BEVERAGE*</span></strong></span><br />\n<br />\n<br />\n&nbsp\;
LOCATION:Silver Spring Golf Club N56W21318 Silver Spring Drive Menomonee Falls
UID:e.596.341
SEQUENCE:3
DTSTAMP:20260420T054159Z
URL:http://business.fallschamber.com/events/details/business-after-5-silver-spring-golf-club-09-09-2014-341
END:VEVENT

END:VCALENDAR
