BEGIN:VCALENDAR
VERSION:2.0
PRODID:-//ChamberMaster//Event Calendar 2.0//EN
METHOD:PUBLISH
X-PUBLISHED-TTL:P3D
REFRESH-INTERVAL:P3D
CALSCALE:GREGORIAN
BEGIN:VEVENT
DTSTART:20140410T220000Z
DTEND:20140411T003000Z
X-MICROSOFT-CDO-ALLDAYEVENT:FALSE
SUMMARY:Business After 5 Scott Hood Agency American Family
DESCRIPTION:APRIL BA5 HOSTED BY SCOTT HOOD-AMERICAN FAMILY\n\n\n\n FOOD    *    BEVERAGE    *    RAFFLES    *    NETWORKING\n\n\n\nCome and see Scott's new location.\n\n\n\nWE WILL ALSO HAVE A RIBBON CUTTING THAT EVENING!
X-ALT-DESC;FMTTYPE=text/html:<span style="font-size: 18px\;"><strong><span style="color: rgb(255\, 0\, 0)\;">APRIL BA5 HOSTED BY SCOTT HOOD-AMERICAN FAMILY</span></strong></span><br />\n<br />\n<strong><span style="color: rgb(0\, 0\, 205)\;">&nbsp\;FOOD&nbsp\;&nbsp\;&nbsp\;&nbsp\;*&nbsp\;&nbsp\;&nbsp\;&nbsp\;BEVERAGE&nbsp\;&nbsp\;&nbsp\;&nbsp\;*&nbsp\;&nbsp\;&nbsp\;&nbsp\;RAFFLES&nbsp\;&nbsp\;&nbsp\;&nbsp\;*&nbsp\;&nbsp\;&nbsp\;&nbsp\;NETWORKING<br />\n<br />\n<span style="font-size: 16px\;">Come and see Scott&#39\;s new location.</span></span><br />\n<br />\n<span style="color: rgb(255\, 0\, 0)\;">WE WILL ALSO HAVE A RIBBON CUTTING THAT EVENING!</span></strong>
LOCATION:American Family - Scott Hood Agency N88W16761 Appleton Avenue Menomonee Falls\, WI 53051
UID:e.596.315
SEQUENCE:3
DTSTAMP:20260422T133412Z
URL:http://business.fallschamber.com/events/details/business-after-5-scott-hood-agency-american-family-04-10-2014-315
END:VEVENT

END:VCALENDAR
