BEGIN:VCALENDAR
VERSION:2.0
PRODID:-//ChamberMaster//Event Calendar 2.0//EN
METHOD:PUBLISH
X-PUBLISHED-TTL:P3D
REFRESH-INTERVAL:P3D
CALSCALE:GREGORIAN
BEGIN:VEVENT
DTSTART:20150305T230000Z
DTEND:20150306T013000Z
X-MICROSOFT-CDO-ALLDAYEVENT:FALSE
SUMMARY:Business After 5 @ MK Design Solutions 3/5/15
DESCRIPTION:MARCH BUSINESS AFTER 5\n\nSPONSORED BY\n\nMK DESIGN SOLUTIONS\n\nCome enjoy networking\; food\, beverage and raffles.\n\nWe will also have a ribbon cutting that evening
X-ALT-DESC;FMTTYPE=text/html:<strong><span style="font-size: 14px\;">MARCH BUSINESS AFTER 5<br />\nSPONSORED BY</span><br />\n<span style="color: rgb(64\, 224\, 208)\;"><span style="font-size: 20px\;">MK DESIGN SOLUTIONS</span></span></strong><br />\n<span style="font-size: 20px\;"><span style="color: rgb(255\, 0\, 0)\;">Come enjoy networking\; food\, beverage and raffles.<br />\n<em><span style="background-color: rgb(64\, 224\, 208)\;">We will also have a ribbon cutting that evening</span></em></span></span><br />\n&nbsp\;
LOCATION:MK Design Solutions W134N5490 Campbell Drive Menomonee Falls\, WI 53051
UID:e.596.417
SEQUENCE:3
DTSTAMP:20260419T203233Z
URL:http://business.fallschamber.com/events/details/business-after-5-mk-design-solutions-3-5-15-03-05-2015-417
END:VEVENT

END:VCALENDAR
