BEGIN:VCALENDAR
VERSION:2.0
PRODID:-//ChamberMaster//Event Calendar 2.0//EN
METHOD:PUBLISH
X-PUBLISHED-TTL:P3D
REFRESH-INTERVAL:P3D
CALSCALE:GREGORIAN
BEGIN:VEVENT
DTSTART:20150210T230000Z
DTEND:20150211T013000Z
X-MICROSOFT-CDO-ALLDAYEVENT:FALSE
SUMMARY:Business After 5 @ Landmark C.U. 2/10/15
DESCRIPTION:FEBRUARY BUSINESS AFTER 5\n\nSPONSORED BY\n\nLANDMARK CREDIT UNION\n\nCome enjoy great networking\, food\, beverage & raffles!
X-ALT-DESC;FMTTYPE=text/html:<strong>FEBRUARY BUSINESS AFTER 5<br />\nSPONSORED&nbsp\;BY<br />\n<span style="font-size: 16px\;"><span style="color: rgb(255\, 0\, 0)\;">LANDMARK CREDIT UNION</span><br />\nCome enjoy great networking\, food\, beverage &amp\; raffles!</span></strong><br />\n&nbsp\;
LOCATION:N96W17480 County Line Road Germantown\, WI 53022
UID:e.596.416
SEQUENCE:3
DTSTAMP:20260419T220730Z
URL:http://business.fallschamber.com/events/details/business-after-5-landmark-c-u-2-10-15-02-10-2015-416
END:VEVENT

END:VCALENDAR
