BEGIN:VCALENDAR
VERSION:2.0
PRODID:-//ChamberMaster//Event Calendar 2.0//EN
METHOD:PUBLISH
X-PUBLISHED-TTL:P3D
REFRESH-INTERVAL:P3D
CALSCALE:GREGORIAN
BEGIN:VEVENT
DTSTART:20141106T230000Z
DTEND:20141107T013000Z
X-MICROSOFT-CDO-ALLDAYEVENT:FALSE
SUMMARY:Business After 5 @ Just Kiln Time: 11/6/14
DESCRIPTION:Business After 5 Sponsored by Just Kiln Time\n\n\n\nPlease join us on Thursday\, November 6th\, 2014 at Just Kiln Time\n\nENJOY FOOD\, BEVERAGES\, NETWORKING & RAFFLES!
X-ALT-DESC;FMTTYPE=text/html:<span style="font-size: 20px\;"><span style="color: rgb(255\, 0\, 0)\;"><strong>Business After 5 Sponsored by Just Kiln Time</strong></span><br />\n<br />\n<strong><span style="font-size: 16px\;"><span style="color: rgb(0\, 0\, 255)\;">Please join us on Thursday\, November 6th\, 2014 at Just Kiln Time<br />\nENJOY FOOD\, BEVERAGES\, NETWORKING &amp\; RAFFLES!</span></span></strong></span>
LOCATION:Just Kiln Time N88W16683 Appleton Avenue Menomonee Falls\, WI 53051
UID:e.596.368
SEQUENCE:3
DTSTAMP:20260420T024006Z
URL:http://business.fallschamber.com/events/details/business-after-5-just-kiln-time-11-6-14-11-06-2014-368
END:VEVENT

END:VCALENDAR
