BEGIN:VCALENDAR
VERSION:2.0
PRODID:-//ChamberMaster//Event Calendar 2.0//EN
METHOD:PUBLISH
X-PUBLISHED-TTL:P3D
REFRESH-INTERVAL:P3D
CALSCALE:GREGORIAN
BEGIN:VEVENT
DTSTART:20140204T230000Z
DTEND:20140205T013000Z
X-MICROSOFT-CDO-ALLDAYEVENT:FALSE
SUMMARY:Business After 5 2/4/2014
DESCRIPTION:Business After 5 Hosted by Fred Astaire Dance Studio of Menomonee Falls\n\n\n\nCome enjoy networking\, food\, beverage and raffles\n\n\n\nEnjoy a dance demonstration or take a lesson yourself!
X-ALT-DESC;FMTTYPE=text/html:<strong><em><span style="font-size: 18px\;"><span style="font-family: times new roman\;">Business After 5 Hosted by Fred Astaire Dance Studio of Menomonee Falls<br />\n<br />\nCome enjoy networking\, food\, beverage and raffles<br />\n<br />\nEnjoy a dance demonstration or take a lesson yourself!</span></span></em></strong>
LOCATION:Fred Astaire Dance Studio N87 W17317 Main St Menomonee Falls\, WI 53051
UID:e.596.294
SEQUENCE:3
DTSTAMP:20260422T175910Z
URL:http://business.fallschamber.com/events/details/business-after-5-2-4-2014-02-04-2014-294
END:VEVENT

END:VCALENDAR
