BEGIN:VCALENDAR
VERSION:2.0
PRODID:-//ChamberMaster//Event Calendar 2.0//EN
METHOD:PUBLISH
X-PUBLISHED-TTL:P3D
REFRESH-INTERVAL:P3D
CALSCALE:GREGORIAN
BEGIN:VEVENT
DTSTART:20141016T220000Z
DTEND:20141017T003000Z
X-MICROSOFT-CDO-ALLDAYEVENT:FALSE
SUMMARY:Business After 5 @ 1Collision County Line: 10/16/14
DESCRIPTION:Please join us as we celebrate our 2nd anniversary here in Menomonee Falls!  Although we have been in business for over 30 years\, we are excited to continue to grow in the Menomonee Falls/Germantown area.  Meet the owners and our friendly staff\, take a tour of our state-of-the-art facility\, enjoy some complimentary food and beverages\, and win some prizes!
X-ALT-DESC;FMTTYPE=text/html:<p style="margin: 0in 0in 0pt\;"><span style="font-size: 18px\;"><span style="color: rgb(0\, 128\, 128)\;"><strong><span new="" style="font-family:\;" times="">Please join us as we celebrate our 2nd anniversary here in Menomonee Falls!&nbsp\; Although we have been in business for over 30 years\, we are excited to continue to grow in the&nbsp\;Menomonee Falls/Germantown area.&nbsp\; Meet the owners and&nbsp\;our friendly staff\, take a tour of our state-of-the-art facility\,&nbsp\;enjoy some complimentary&nbsp\;food and beverages\, and win some prizes!&nbsp\; </span></strong></span></span></p>\n
LOCATION:1Collision County Line N96W14555 County Line Road Menomonee Falls\, WI 53051 Just East of Pilgrim Road on county Line Road
UID:e.596.367
SEQUENCE:3
DTSTAMP:20260420T042741Z
URL:http://business.fallschamber.com/events/details/business-after-5-1collision-county-line-10-16-14-10-16-2014-367
END:VEVENT

END:VCALENDAR
