BEGIN:VCALENDAR
VERSION:2.0
PRODID:-//ChamberMaster//Event Calendar 2.0//EN
METHOD:PUBLISH
X-PUBLISHED-TTL:P3D
REFRESH-INTERVAL:P3D
CALSCALE:GREGORIAN
BEGIN:VEVENT
DTSTART:20140316T163000Z
DTEND:20140316T200000Z
X-MICROSOFT-CDO-ALLDAYEVENT:FALSE
SUMMARY:Brunch & Irish Step Dancers
DESCRIPTION:Sunday Brunch and Irish Step Dancers
X-ALT-DESC;FMTTYPE=text/html:Sunday Brunch&nbsp\;and Irish Step Dancers
LOCATION:Village at the Falls
UID:e.596.317
SEQUENCE:3
DTSTAMP:20260422T143744Z
URL:http://business.fallschamber.com/events/details/brunch-irish-step-dancers-03-16-2014-317
END:VEVENT

END:VCALENDAR
