BEGIN:VCALENDAR
VERSION:2.0
PRODID:-//ChamberMaster//Event Calendar 2.0//EN
METHOD:PUBLISH
X-PUBLISHED-TTL:P3D
REFRESH-INTERVAL:P3D
CALSCALE:GREGORIAN
BEGIN:VEVENT
DTSTART:20140513T123000Z
DTEND:20140513T140000Z
X-MICROSOFT-CDO-ALLDAYEVENT:FALSE
SUMMARY:Brewed Awakenings 5/13/14
DESCRIPTION:Menomonee Falls Young Professionals please join us for "Brewed Awakening\n\n\n\nFeatured Keynote Speaker for May:\n\nCheri Wolf-Schulman\, MS\n\nDirector\, Organizational Development\, Community Hospital Division\n\nFroedtert & The Medical College of WI Community Memorial Hospital \n\n\n\nTopic: Mixing and Managing multiple generations in the workplace\n\nThis is the first time in American history that we have had FOUR generations working side-by-side in the workplace.  Once upon a time\, there were definite rules about how the boss was treated and how younger workers treated older workers.  No longer: Roles are all over the place and the rules are being rewritten daily.  At work generational differences can impact everything including recruiting\, building teams\, dealing with change\, motivating and managing\, and increasing productivity.  In this discussion\, we'll explore how generational differences\, relative to how people communicate\, might affect morale\, commitment\, and workplace misunderstandings.
X-ALT-DESC;FMTTYPE=text/html:<span style="font-size:12px\;">Menomonee Falls Young Professionals please join us for &quot\;<strong><span style="font-family: 'comic sans ms'\;">Brewed Awakening</span></strong></span><br />\n<br />\n<span style="font-size:14px\;"><span style="font-family:arial\;">Featured Keynote Speaker for May:<br />\n<strong>Cheri Wolf-Schulman\, MS</strong><br />\n<span style="font-size:12px\;">Director\, Organizational Development\, Community Hospital Division</span><br />\n<strong><span style="font-size:12px\;">Froedtert &amp\; The Medical College of WI Community Memorial Hospital&nbsp\;</span><br />\n<br />\nTopic:&nbsp\;</strong></span></span><strong><span style="color:#1F497D\;"><em>Mixing and Managing multiple generations in the workplace</em></span></strong><br />\n<em><span style="color:#1F497D\;">This is the first time in American history that we have had FOUR generations working side-by-side in the workplace. &nbsp\;Once upon a time\, there were definite rules about how the boss was treated and how younger workers treated older workers.&nbsp\; No longer: Roles are all over the place and the rules are being rewritten daily.&nbsp\; At work generational differences can impact everything including recruiting\, building teams\, dealing with change\, motivating and managing\, and increasing productivity.&nbsp\; In this discussion\, we&rsquo\;ll explore how generational differences\, relative to how people communicate\, might affect morale\, commitment\, and workplace misunderstandings.</span></em><br />\n<br />\n<br />\n<br />\n<br />\n<br />\n<br />\n<br />\n&nbsp\;
LOCATION:Herzing University W140N8917 Lilly Rd. Menomonee Falls\, WI 53051 (Across the street from Ernie von Schledorn on Main Street)
UID:e.596.333
SEQUENCE:3
DTSTAMP:20260422T114706Z
URL:http://business.fallschamber.com/events/details/brewed-awakenings-5-13-14-05-13-2014-333
END:VEVENT

END:VCALENDAR
