BEGIN:VCALENDAR
VERSION:2.0
PRODID:-//ChamberMaster//Event Calendar 2.0//EN
METHOD:PUBLISH
X-PUBLISHED-TTL:P3D
REFRESH-INTERVAL:P3D
CALSCALE:GREGORIAN
BEGIN:VEVENT
DTSTART:20141021T123000Z
DTEND:20141021T140000Z
X-MICROSOFT-CDO-ALLDAYEVENT:FALSE
SUMMARY:Brewed Awakenings: 10/21/2014
DESCRIPTION:Young Professionals please join us on October 21\, 2014 for the "Brewed Awakenings" meeting\n\n\n\nEach "Brewed Awakenings" meeting will feature a guest speaker and conversation focusing on leadership\, getting involved and giving back.\n\n\n\nFeatured Guest Speaker for October 21\, 2014\, Pastor Mike Frie of Metro Harvest Church\n\n\n\n topic: "What Does Success in Business and Life Look Like?"
X-ALT-DESC;FMTTYPE=text/html:Young Professionals please join us on October 21\, 2014 for the &quot\;<span style="font-size: 14px\;"><strong><span style="font-family: comic sans ms\;">Brewed Awakenings</span></strong></span>&quot\; meeting<br />\n<br />\n<em>Each &quot\;Brewed Awakenings&quot\; meeting will feature a guest speaker and conversation focusing on leadership\, getting involved and giving back.</em><br />\n<br />\n<strong><span style="font-family: times new roman\;"><em><span style="color: rgb(0\, 128\, 0)\;"><span style="font-size: 20px\;">Featured Guest Speaker for October 21\, 2014\, Pastor Mike Frie of Metro Harvest Church</span></span></em></span></strong><br />\n<br />\n<span style="color: rgb(0\, 0\, 0)\;"><span style="font-size: 16px\;"><span style="font-family: times new roman\;">&nbsp\;topic:</span> </span></span><strong><span style="color: rgb(0\, 128\, 0)\;"><span style="font-size: 16px\;"><span style="font-size: 22px\;">&quot\;What Does Success in Business and Life Look Like?&quot\;</span></span></span></strong><br />\n<br />\n&nbsp\;
LOCATION:Metro Harvest Church N96 W14313 County Line Rd. Menomonee Falls\, WI 53051 (262) 250-1925
UID:e.596.386
SEQUENCE:3
DTSTAMP:20260420T041213Z
URL:http://business.fallschamber.com/events/details/brewed-awakenings-10-21-2014-10-21-2014-386
END:VEVENT

END:VCALENDAR
