BEGIN:VCALENDAR
VERSION:2.0
PRODID:-//ChamberMaster//Event Calendar 2.0//EN
METHOD:PUBLISH
X-PUBLISHED-TTL:P3D
REFRESH-INTERVAL:P3D
CALSCALE:GREGORIAN
BEGIN:VEVENT
DTSTART:20141214T153000Z
DTEND:20141214T193000Z
X-MICROSOFT-CDO-ALLDAYEVENT:FALSE
SUMMARY:Breakfast With Santa
DESCRIPTION:BREAKFAST WITH SANTA\n\nSpecial appearance by Elsa and Anna from Frozen\n\n\n\nOne free picture with Santa for each purchase of a regular priced brunch
X-ALT-DESC;FMTTYPE=text/html:BREAKFAST WITH SANTA<br />\nSpecial appearance by Elsa and Anna from Frozen<br />\n<br />\nOne free picture with Santa for each purchase of a regular priced brunch
LOCATION:Florian Park Conference and Event Center N111W18611 Mequon Road\, Germantown 262-257-9181 ext. 101
UID:e.596.402
SEQUENCE:3
DTSTAMP:20260420T011543Z
URL:http://business.fallschamber.com/events/details/breakfast-with-santa-12-14-2014-402
END:VEVENT

END:VCALENDAR
