BEGIN:VCALENDAR
VERSION:2.0
PRODID:-//ChamberMaster//Event Calendar 2.0//EN
METHOD:PUBLISH
X-PUBLISHED-TTL:P3D
REFRESH-INTERVAL:P3D
CALSCALE:GREGORIAN
BEGIN:VEVENT
DTSTART:20131207T150000Z
DTEND:20131207T210000Z
X-MICROSOFT-CDO-ALLDAYEVENT:FALSE
SUMMARY:Breakfast or Lunch with Santa
DESCRIPTION:Breakfast or Lunch with Santa\n\n\n\nStory Time\, Face Painting\, Cookie Decorating and pictures with Santa\n\n\n\nPLEASE DONATE A  NEW\, UNWRAPPED GIFT FOR OPERATION HOMETOWN HEROES
X-ALT-DESC;FMTTYPE=text/html:Breakfast or Lunch with Santa<br />\n<br />\nStory Time\, Face Painting\, Cookie Decorating and pictures with Santa<br />\n<br />\nPLEASE DONATE A&nbsp\; NEW\, UNWRAPPED GIFT FOR OPERATION HOMETOWN HEROES
LOCATION:Davians N56W16300 Silver Spring Drive Menomonee Falls\, WI 53051
UID:e.596.285
SEQUENCE:3
DTSTAMP:20260422T205903Z
URL:http://business.fallschamber.com/events/details/breakfast-or-lunch-with-santa-12-07-2013-285
END:VEVENT

END:VCALENDAR
