BEGIN:VCALENDAR
VERSION:2.0
PRODID:-//ChamberMaster//Event Calendar 2.0//EN
METHOD:PUBLISH
X-PUBLISHED-TTL:P3D
REFRESH-INTERVAL:P3D
CALSCALE:GREGORIAN
BEGIN:VEVENT
DTSTART:20130409T220000Z
DTEND:20130410T003000Z
X-MICROSOFT-CDO-ALLDAYEVENT:FALSE
SUMMARY:BA5 Town Bank 4/9/13
DESCRIPTION:Come enjoy great networking at the April BA5 hosted by:\n\n\n\nTOWN BANK
X-ALT-DESC;FMTTYPE=text/html:<font size="3">Come enjoy great networking at the April BA5 hosted by:<br />\n<br />\n<span style="font-size: 36px\;"><span style="color: rgb(0\, 100\, 0)\;"><strong>TOWN BANK</strong></span></span></font><br />\n<br />\n<br />\n
LOCATION:N72W13435 Jacob Lane Menomonee Falls\, WI 53051
UID:e.596.208
SEQUENCE:3
DTSTAMP:20260423T070759Z
URL:http://business.fallschamber.com/events/details/ba5-town-bank-4-9-13-04-09-2013-208
END:VEVENT

END:VCALENDAR
