BEGIN:VCALENDAR
VERSION:2.0
PRODID:-//ChamberMaster//Event Calendar 2.0//EN
METHOD:PUBLISH
X-PUBLISHED-TTL:P3D
REFRESH-INTERVAL:P3D
CALSCALE:GREGORIAN
BEGIN:VEVENT
DTSTART:20131105T230000Z
DTEND:20131106T013000Z
X-MICROSOFT-CDO-ALLDAYEVENT:FALSE
SUMMARY:BA5 - November 5\, 2013 - Radisson
DESCRIPTION:NOVEMBER BA5\n\n\n\nRadisson Hotel Menomonee Falls\n\n\n\nCome enjoy great food\, beverage and networking!!
X-ALT-DESC;FMTTYPE=text/html:<br />\n<span style="font-size: 20px\;"><span style="color: rgb(178\, 34\, 34)\;">NOVEMBER BA5</span></span><br />\n<br />\n<span style="color: rgb(178\, 34\, 34)\;"><span style="font-size: 20px\;">Radisson Hotel Menomonee Falls</span></span><br />\n<br />\n<span style="color: rgb(47\, 79\, 79)\;"><span style="font-size: 20px\;">Come enjoy great food\, beverage and networking!!</span></span>
LOCATION:Radisson Hotel of Menomonee Falls N88W14750 Main Street Menomonee Falls\, WI 53051
UID:e.596.218
SEQUENCE:3
DTSTAMP:20260422T204327Z
URL:http://business.fallschamber.com/events/details/ba5-november-5-2013-radisson-11-05-2013-218
END:VEVENT

END:VCALENDAR
