BEGIN:VCALENDAR
VERSION:2.0
PRODID:-//ChamberMaster//Event Calendar 2.0//EN
METHOD:PUBLISH
X-PUBLISHED-TTL:P3D
REFRESH-INTERVAL:P3D
CALSCALE:GREGORIAN
BEGIN:VEVENT
DTSTART:20140710T220000Z
DTEND:20140711T003000Z
X-MICROSOFT-CDO-ALLDAYEVENT:FALSE
SUMMARY:BA5 - North Hills Country Club
DESCRIPTION:JOIN US ON THE PATIO AT NORTH HILLS COUNTRY CLUB\n\n\n\n*Complimentary Appetizers\n\n*Cash Bar\n\n*Live Music\n\nNOTE:  North Hills is a private club and registration is required.  RSVP's are required by the end of the day on July 8th.
X-ALT-DESC;FMTTYPE=text/html:<p><strong><span style="font-family: verdana\;"><span style="font-size: 18px\;"><span style="color: rgb(0\, 153\, 0)\;">JOIN US ON THE PATIO AT NORTH HILLS COUNTRY CLUB<br />\n<br />\n*Complimentary Appetizers<br />\n*Cash Bar<br />\n*Live Music</span><br />\n<span style="color: rgb(255\, 0\, 0)\;">NOTE:&nbsp\;&nbsp\;North Hills is a private club and registration is required.&nbsp\; RSVP&#39\;s are required by the end of the day on July 8th.&nbsp\;</span></span></span></strong></p>\n
LOCATION:NORTH HILLS COUNTRY CLUB N73W13430 Appleton Avenue Menomonee Falls\, WI
UID:e.596.329
SEQUENCE:3
DTSTAMP:20260422T085540Z
URL:http://business.fallschamber.com/events/details/ba5-north-hills-country-club-07-10-2014-329
END:VEVENT

END:VCALENDAR
