BEGIN:VCALENDAR
VERSION:2.0
PRODID:-//ChamberMaster//Event Calendar 2.0//EN
METHOD:PUBLISH
X-PUBLISHED-TTL:P3D
REFRESH-INTERVAL:P3D
CALSCALE:GREGORIAN
BEGIN:VEVENT
DTSTART:20130711T220000Z
DTEND:20130712T003000Z
X-MICROSOFT-CDO-ALLDAYEVENT:FALSE
SUMMARY:BA5\, July 11\, 2013
DESCRIPTION:July BA5 Hosted by:\n\nMortensen Audiology dba Sonus Hearing Care Professionals\n\n\n\n\n\n\n\nSummer has finally arrived - come enjoy great networking\, food and refreshments!
X-ALT-DESC;FMTTYPE=text/html:<span style="font-size: 20px\;">July BA5 Hosted by:<br />\n<span style="color: rgb(255\, 0\, 0)\;">Mortensen Audiology dba Sonus Hearing Care Professionals</span><br />\n<br />\n<br />\n<br />\n<span style="color: rgb(0\, 128\, 0)\;">Summer has finally arrived - come enjoy great networking\, food and refreshments!</span></span>
LOCATION:Mortensen Audiology dba Sonus Hearing Care Professionals W186N9523 Bancroft Drive Menomonee Falls\, WI 53051
UID:e.596.217
SEQUENCE:3
DTSTAMP:20260423T040406Z
URL:http://business.fallschamber.com/events/details/ba5-july-11-2013-07-11-2013-217
END:VEVENT

END:VCALENDAR
