BEGIN:VCALENDAR
VERSION:2.0
PRODID:-//ChamberMaster//Event Calendar 2.0//EN
METHOD:PUBLISH
X-PUBLISHED-TTL:P3D
REFRESH-INTERVAL:P3D
CALSCALE:GREGORIAN
BEGIN:VEVENT
DTSTART:20140508T220000Z
DTEND:20140509T003000Z
X-MICROSOFT-CDO-ALLDAYEVENT:FALSE
SUMMARY:BA5 Hosted by Town Bank
DESCRIPTION:MAY BUSINESS AFTER 5 HOSTED BY TOWN BANK\n\n\n\nNETWORKING * REFRESHMENTS * RAFFLES
X-ALT-DESC;FMTTYPE=text/html:<span style="font-size: 20px\;"><span style="color: rgb(0\, 128\, 128)\;"><strong><span style="font-size: 22px\;">MAY BUSINESS AFTER 5 HOSTED BY TOWN BANK</span><br />\n<br />\nNETWORKING * REFRESHMENTS * RAFFLES</strong></span></span>
LOCATION:N72W13435 Jacob Lane Menomonee Falls\, WI 53051
UID:e.596.316
SEQUENCE:3
DTSTAMP:20260422T114428Z
URL:http://business.fallschamber.com/events/details/ba5-hosted-by-town-bank-05-08-2014-316
END:VEVENT

END:VCALENDAR
