BEGIN:VCALENDAR
VERSION:2.0
PRODID:-//ChamberMaster//Event Calendar 2.0//EN
METHOD:PUBLISH
X-PUBLISHED-TTL:P3D
REFRESH-INTERVAL:P3D
CALSCALE:GREGORIAN
BEGIN:VEVENT
DTSTART:20130808T220000Z
DTEND:20130809T003000Z
X-MICROSOFT-CDO-ALLDAYEVENT:FALSE
SUMMARY:BA5 Glass Shower Door & Carmel Builders
DESCRIPTION:August Business After 5 Hosted By:\n\nGlass Shower Door & Carmel Builders\n\n\n\nStop by to see Glass Shower Door's remodel and Carmel Builders\, their remodeler\, next door!  Enjoy networking\, food and beverage as you enjoy visiting both offices!
X-ALT-DESC;FMTTYPE=text/html:<span style="font-size: 14px\;"><font color="#0000cd">August Business After 5 Hosted By:</font></span><br />\n<span style="font-size: 18px\;"><span style="color: rgb(255\, 0\, 0)\;"><span style="font-size: 20px\;">Glass Shower Door &amp\; Carmel Builders</span></span></span><br />\n<br />\n<span style="color:#0000ff\;"><span style="font-size:20px\;"><span style="font-family:calibri\;"><span style="font-family:calibri\,sans-serif\;">Stop by to see Glass Shower Door&rsquo\;s remodel and Carmel Builders\, their remodeler\, next door!&nbsp\; Enjoy networking\, food and beverage as you enjoy visiting both offices!</span></span></span></span><br />\n<br />\n<br />\n
LOCATION:N85 W16100 Appleton Avenue Menomonee Falls\, WI 53051 ABOVE THE POST OFFICE
UID:e.596.214
SEQUENCE:3
DTSTAMP:20260423T011030Z
URL:http://business.fallschamber.com/events/details/ba5-glass-shower-door-carmel-builders-08-08-2013-214
END:VEVENT

END:VCALENDAR
