BEGIN:VCALENDAR
VERSION:2.0
PRODID:-//ChamberMaster//Event Calendar 2.0//EN
METHOD:PUBLISH
X-PUBLISHED-TTL:P3D
REFRESH-INTERVAL:P3D
CALSCALE:GREGORIAN
BEGIN:VEVENT
DTSTART:20131205T230000Z
DTEND:20131206T013000Z
X-MICROSOFT-CDO-ALLDAYEVENT:FALSE
SUMMARY:BA5 Country Inn & Suites 12/5/13
DESCRIPTION:CELEBRATE THE SEASON AT THE COUNTRY INN & SUITES AND OUR LAST BA5 OF 2013!
X-ALT-DESC;FMTTYPE=text/html:<p>\n	<strong><span style="color: rgb(255\, 0\, 0)\;"><span style="font-size: 20px\;"><span style="font-family: comic sans ms\;">CELEBRATE THE SEASON AT THE COUNTRY INN &amp\; SUITES AND OUR LAST BA5 OF 2013!</span></span></span></strong><br />\n	<br />\n	&nbsp\;</p>\n
LOCATION:W188N11020 Maple Road Germantown\, WI
UID:e.596.213
SEQUENCE:3
DTSTAMP:20260422T193536Z
URL:http://business.fallschamber.com/events/details/ba5-country-inn-suites-12-5-13-12-05-2013-213
END:VEVENT

END:VCALENDAR
