BEGIN:VCALENDAR
VERSION:2.0
PRODID:-//ChamberMaster//Event Calendar 2.0//EN
METHOD:PUBLISH
X-PUBLISHED-TTL:P3D
REFRESH-INTERVAL:P3D
CALSCALE:GREGORIAN
BEGIN:VEVENT
DTSTART:20130507T220000Z
DTEND:20130508T003000Z
X-MICROSOFT-CDO-ALLDAYEVENT:FALSE
SUMMARY:BA5 Community Memorial Medical Commons 5/7/13
DESCRIPTION:COME JOIN US FOR THE MAY BA5 AT\n\n\n\n\n\nCommunity Memorial Medical Commons\n\n\n\n Enjoy great food\, beverage\, networking
X-ALT-DESC;FMTTYPE=text/html:<span style="color: rgb(0\, 128\, 128)\;"><span style="font-size: 14px\;"><strong>COME JOIN US FOR THE MAY BA5 AT</strong></span></span><br />\n<br />\n<br />\n<span style="color: rgb(0\, 128\, 128)\;"><strong><span style="font-size: 20px\;">Community Memorial Medical Commons</span></strong></span><br />\n<br />\n<span style="color: rgb(128\, 0\, 128)\;"><span style="font-size: 16px\;">&nbsp\;Enjoy great food\, beverage\, networking</span></span><br />\n
LOCATION:W129N7055 Northfield Drive Menomonee Falls
UID:e.596.209
SEQUENCE:3
DTSTAMP:20260423T053819Z
URL:http://business.fallschamber.com/events/details/ba5-community-memorial-medical-commons-5-7-13-05-07-2013-209
END:VEVENT

END:VCALENDAR
