BEGIN:VCALENDAR
VERSION:2.0
PRODID:-//ChamberMaster//Event Calendar 2.0//EN
METHOD:PUBLISH
X-PUBLISHED-TTL:P3D
REFRESH-INTERVAL:P3D
CALSCALE:GREGORIAN
BEGIN:VEVENT
DTSTART:20130613T220000Z
DTEND:20130614T010000Z
X-MICROSOFT-CDO-ALLDAYEVENT:FALSE
SUMMARY:BA5 Chamber Porch Party 6/13/13
DESCRIPTION:Chamber Porch Party\n\n\n\nJoin us for the biggest BA5 of the year!\n\n\n\nGold Sponsor        Hometown Publishing & Communications\n\nSilver Sponsors            First Bank Financial Centre\n\n                                       Malkin's Carpets\n\n                                       Children's Community Center\n\n                                       Moore Construction Services\n\n                                       Ally's Bistro\n\nBronze Sponsors                Falls Patio Players\n\n\n\nSponsorship opportunities available through Friday\, May 17th.\n\n\n\nCome and enjoy food provided by Trysting Place\; Ally's Bistro\; Peiffer's Piggly Wiggly\;\n\nNorth Hills County Club\; Community League\; Sam's Club\n\n\n\nEnjoy a beverage provided by Beer Capitol\; Pepsi\; wine tasting by Otto's Beverage Center\n\n\n\nHave your company represented by providing a raffle prize
X-ALT-DESC;FMTTYPE=text/html:<span style="color:#ff0000\;"><strong><span style="font-size: 22px\;">Chamber Porch Party</span></strong></span><br />\n<br />\n<strong><span style="font-size: medium\;">Join us for the biggest </span>BA5<span style="font-size: medium\;"> of the year!</span></strong><br />\n<br />\n<font size="3"><span style="font-size: 18px\;"><span style="color: rgb(255\, 215\, 0)\;">Gold Sponsor&nbsp\;&nbsp\;&nbsp\;&nbsp\;&nbsp\;&nbsp\;&nbsp\;&nbsp\;Hometown Publishing &amp\; Communications</span><br />\n<span style="font-size: 16px\;">Silver Sponsors &nbsp\; &nbsp\; &nbsp\; &nbsp\; &nbsp\; &nbsp\;First Bank Financial Centre<br />\n&nbsp\;&nbsp\;&nbsp\;&nbsp\;&nbsp\;&nbsp\;&nbsp\;&nbsp\;&nbsp\;&nbsp\;&nbsp\;&nbsp\;&nbsp\;&nbsp\;&nbsp\;&nbsp\;&nbsp\;&nbsp\;&nbsp\;&nbsp\;&nbsp\;&nbsp\;&nbsp\;&nbsp\;&nbsp\;&nbsp\;&nbsp\;&nbsp\;&nbsp\;&nbsp\;&nbsp\;&nbsp\;&nbsp\;&nbsp\;&nbsp\;&nbsp\;&nbsp\;&nbsp\;&nbsp\;Malkin&#39\;s Carpets<br />\n&nbsp\;&nbsp\;&nbsp\;&nbsp\;&nbsp\;&nbsp\;&nbsp\;&nbsp\;&nbsp\;&nbsp\;&nbsp\;&nbsp\;&nbsp\;&nbsp\;&nbsp\;&nbsp\;&nbsp\;&nbsp\;&nbsp\;&nbsp\;&nbsp\;&nbsp\;&nbsp\;&nbsp\;&nbsp\;&nbsp\;&nbsp\;&nbsp\;&nbsp\;&nbsp\;&nbsp\;&nbsp\;&nbsp\;&nbsp\;&nbsp\;&nbsp\;&nbsp\;&nbsp\;&nbsp\;Children&#39\;s Community Center<br />\n&nbsp\;&nbsp\;&nbsp\;&nbsp\;&nbsp\;&nbsp\;&nbsp\;&nbsp\;&nbsp\;&nbsp\;&nbsp\;&nbsp\;&nbsp\;&nbsp\;&nbsp\;&nbsp\;&nbsp\;&nbsp\;&nbsp\;&nbsp\;&nbsp\;&nbsp\;&nbsp\;&nbsp\;&nbsp\;&nbsp\;&nbsp\;&nbsp\;&nbsp\;&nbsp\;&nbsp\;&nbsp\;&nbsp\;&nbsp\;&nbsp\;&nbsp\;&nbsp\;&nbsp\;&nbsp\;Moore Construction Services<br />\n&nbsp\;&nbsp\;&nbsp\;&nbsp\;&nbsp\;&nbsp\;&nbsp\;&nbsp\;&nbsp\;&nbsp\;&nbsp\;&nbsp\;&nbsp\;&nbsp\;&nbsp\;&nbsp\;&nbsp\;&nbsp\;&nbsp\;&nbsp\;&nbsp\;&nbsp\;&nbsp\;&nbsp\;&nbsp\;&nbsp\;&nbsp\;&nbsp\;&nbsp\;&nbsp\;&nbsp\;&nbsp\;&nbsp\;&nbsp\;&nbsp\;&nbsp\;&nbsp\;&nbsp\;&nbsp\;Ally&#39\;s Bistro<br />\n<span style="color: rgb(218\, 165\, 32)\;">Bronze Sponsors&nbsp\;&nbsp\;&nbsp\;&nbsp\;&nbsp\;&nbsp\;&nbsp\;&nbsp\;&nbsp\;&nbsp\;&nbsp\;&nbsp\;&nbsp\;&nbsp\;&nbsp\;&nbsp\;Falls Patio Players</span><br />\n<br />\n<span style="font-size: 14px\;"><em><strong>Sponsorship opportunities available through Friday\, May 17th.</strong></em><br />\n<br />\n<span style="color: rgb(0\, 0\, 205)\;"><strong>Come and enjoy food provided by Trysting Place\; Ally&#39\;s Bistro\; Peiffer&#39\;s Piggly Wiggly\;<br />\nNorth Hills County Club\; Community League\; Sam&#39\;s Club<br />\n<br />\nEnjoy a beverage provided by Beer Capitol\; Pepsi\; wine tasting by&nbsp\;Otto&#39\;s&nbsp\;Beverage Center</strong></span><br />\n<br />\n<strong><em>Have your company represented by providing a raffle prize</em></strong></span><br />\n<br />\n<br />\n<br />\n<br />\n&nbsp\;&nbsp\;&nbsp\;&nbsp\;&nbsp\;&nbsp\;&nbsp\;&nbsp\;</span></span></font>
LOCATION:Menomonee Falls Chamber of Commerce\, Inc. N88W16621 Appleton Avenue Menomonee Falls\, WI 53051
UID:e.596.210
SEQUENCE:3
DTSTAMP:20260423T042945Z
URL:http://business.fallschamber.com/events/details/ba5-chamber-porch-party-6-13-13-06-13-2013-210
END:VEVENT

END:VCALENDAR
