BEGIN:VCALENDAR
VERSION:2.0
PRODID:-//ChamberMaster//Event Calendar 2.0//EN
METHOD:PUBLISH
X-PUBLISHED-TTL:P3D
REFRESH-INTERVAL:P3D
CALSCALE:GREGORIAN
BEGIN:VEVENT
DTSTART:20131003T220000Z
DTEND:20131004T003000Z
X-MICROSOFT-CDO-ALLDAYEVENT:FALSE
SUMMARY:BA5 at FASTSIGNS 10/3/13
DESCRIPTION:This Business After 5 hosted by FASTSIGNS  of Menomonee Falls will feature a Pig Roast by Trysting Place Pub\, Beverages from Lakefront Brewery and Otto's Wine & Spirits as well as a chance to win several Door Prizes including Packer tickets!\n\n\n\nCome Celebrate with Fastsigns as they mark the official opening of their new location! Ribbon Cutting at 6 PM
X-ALT-DESC;FMTTYPE=text/html:<strong><span style="color:blue\;"><span style="font-size:16.5pt\;">This Business After 5 hosted by</span></span></strong>&nbsp\;<em><strong><span style="color:blue\;"><span style="font-family:tahoma\,sans-serif\;"><span style="font-size:16.5pt\;">FASTSIGNS</span></span></span></strong></em><strong>&nbsp\;&nbsp\;<span style="color:blue\;"><span style="font-size:16.5pt\;">of Menomonee Falls will feature a </span></span><span style="color:red\;"><span style="font-size:16.5pt\;">Pig Roast</span></span><span style="color:blue\;"><span style="font-size:16.5pt\;"> by Trysting Place Pub\, Beverages from </span></span><span style="color:red\;"><span style="font-size:16.5pt\;">Lakefront Brewery</span></span><span style="color:blue\;"><span style="font-size:16.5pt\;"> and </span></span><span style="color:red\;"><span style="font-size:16.5pt\;">Otto&#39\;s</span></span><span style="color:blue\;"><span style="font-size:16.5pt\;"> Wine &amp\; Spirits as well as a chance to win several </span></span><span style="color:red\;"><span style="font-size:16.5pt\;">Door Prizes</span></span><span style="color:blue\;"><span style="font-size:16.5pt\;"> including Packer tickets!</span></span></strong><br />\n<br />\n<strong><strong><span style="color:blue\;"><span style="font-size:12.0pt\;">Come Celebrate with Fastsigns as they mark the official opening of their new location! Ribbon Cutting at 6 PM</span></span></strong></strong>
LOCATION:W173N9170 St. Francis Drive Menomonee Falls\, WI
UID:e.596.212
SEQUENCE:3
DTSTAMP:20260422T222343Z
URL:http://business.fallschamber.com/events/details/ba5-at-fastsigns-10-3-13-10-03-2013-212
END:VEVENT

END:VCALENDAR
