BEGIN:VCALENDAR
VERSION:2.0
PRODID:-//ChamberMaster//Event Calendar 2.0//EN
METHOD:PUBLISH
X-PUBLISHED-TTL:P3D
REFRESH-INTERVAL:P3D
CALSCALE:GREGORIAN
BEGIN:VEVENT
DTSTART:20130919T213000Z
DTEND:20130920T000000Z
X-MICROSOFT-CDO-ALLDAYEVENT:FALSE
SUMMARY:Annual Multi-Chamber Networking Event
DESCRIPTION:Annual Multi Chamber Networking Event\n\n\n\nParticipating Chambers:\n\nMenomonee Falls\n\nBrookfield\n\nButler\n\nDelafield\n\nHartland\n\nPewaukee\n\nMuskego\n\nWaukesha\n\nNew Berlin\n\nOconomowoc\n\nSussex
X-ALT-DESC;FMTTYPE=text/html:<span style="color:#ff0000\;"><strong><span style="font-size:20px\;"><span style="font-family:arial\;">Annual Multi Chamber Networking Event</span></span></strong></span><br />\n<br />\n<span style="font-family:times new roman\;"><strong style="font-size: 12px\;"><span style="font-size:16px\;">Participating Chambers:<br />\n<span style="color:#0000cd\;">Menomonee Falls<br />\nBrookfield<br />\nButler<br />\nDelafield<br />\nHartland<br />\nPewaukee<br />\nMuskego<br />\nWaukesha<br />\nNew Berlin<br />\nOconomowoc<br />\nSussex</span></span></strong></span><br />\n<br />\n<br />\n
LOCATION:Sheraton Milwaukee Brookfield Hotel 375 S. Moorland Road Brookfield\, WI 53005
UID:e.596.274
SEQUENCE:3
DTSTAMP:20260422T233939Z
URL:http://business.fallschamber.com/events/details/annual-multi-chamber-networking-event-09-19-2013-274
END:VEVENT

END:VCALENDAR
