BEGIN:VCALENDAR
VERSION:2.0
PRODID:-//ChamberMaster//Event Calendar 2.0//EN
METHOD:PUBLISH
X-PUBLISHED-TTL:P3D
REFRESH-INTERVAL:P3D
CALSCALE:GREGORIAN
BEGIN:VEVENT
DTSTART:20140123T230000Z
DTEND:20140124T030000Z
X-MICROSOFT-CDO-ALLDAYEVENT:FALSE
SUMMARY:Annual Awards Banquet Presented by Polyak Trucking
DESCRIPTION:Menomonee Falls Chamber of Commerce Annual Awards Banquet presented by Polyak Trucking\n\n\n\nYou are cordially invited to attend an\n\n"Elegant Evening Under the Stars"\n\nThursday January 23\, 2014 at Davians Banquet & Conference Center\n\n\n\nSpecial Guest Emcee: 620 WTMJ News Radio's John Mercure\n\n\n\nAward Presentations:\n\nBusiness of the Year - First Bank Financial Centre\n\nCaptain of Industry - Johnson's Nursery\, Inc.\n\nChairperson of the Year - Cheri Wolf-Schulman\n\nVolunteer of the Year - Dan Schwind\n\nCommunity Improvement Award - Falls Chiropractic Group S.C.\n\nCommunity Service Award - Falls Patio Players\n\nLarry Stewart Humanitarian Award - Marty Schallock\n\nPresident's Award - Mary Metzger\n\n\n\nEvening's Agenda:\n\n5 p.m. Cocktails & Raffle\n\n6 p.m. Sit-down Dinner featuring both Beef Tenderloin & Salmon (Dinner for special dietary needs upon request)\n\nAward Presentations\, Live Voice Auction\, Raffle & Heads/Tails Game\n\n\n\nBanquet Pricing:\n\n$50 per person\n\n$400: reserved table of 8\n\n$500: recerved table of 10
X-ALT-DESC;FMTTYPE=text/html:<span style="font-size:18px\;"><span style="font-family:times new roman\;"><em><span style="font-size:20px\;"><strong>Menomonee Falls Chamber of Commerce Annual Awards Banquet presented by Polyak Trucking</strong></span><br />\n<br />\n<span style="font-size:14px\;">You are cordially invited to attend an<br />\n<strong>&quot\;Elegant Evening Under the Stars&quot\;</strong><br />\nThursday January 23\, 2014 at Davians Banquet &amp\; Conference Center<br />\n<br />\n<span style="font-size:18px\;"><strong>Special Guest Emcee:</strong> <span style="font-size:14px\;">620 WTMJ&nbsp\;News Radio&#39\;s John Mercure</span></span><br />\n<br />\n<span style="font-size:18px\;"><strong>Award Presentations:</strong></span></span><br />\n<span style="font-size:14px\;">Business of the Year - First Bank Financial Centre<br />\n<span style="font-size:18px\;"><span style="font-size:14px\;"><em>Captain of Industry - Johnson&#39\;s Nursery\, Inc.</em><br />\nChairperson of the Year - Cheri Wolf-Schulman<br />\nVolunteer of the Year - Dan Schwind<br />\nCommunity Improvement Award - Falls Chiropractic Group S.C.<br />\nCommunity Service Award - Falls Patio Players<br />\nLarry Stewart Humanitarian Award - Marty Schallock<br />\nPresident&#39\;s Award - Mary Metzger</span><br />\n<br />\n<span style="font-size:16px\;"><span style="font-size:18px\;"><strong>Evening&#39\;s Agenda:</strong></span><br />\n<span style="font-size:14px\;">5 p.m. Cocktails &amp\; Raffle<br />\n6 p.m. Sit-down Dinner featuring both Beef Tenderloin &amp\; Salmon (Dinner for special dietary needs upon request)<br />\nAward Presentations\, Live Voice Auction\, Raffle &amp\; Heads/Tails Game</span><br />\n<br />\n<span style="font-size:18px\;"><strong>Banquet Pricing:</strong></span><br />\n<span style="font-size:14px\;">$50 per person<br />\n$400: reserved table of 8<br />\n$500: recerved&nbsp\;table of 10</span></span></span></span></em></span></span><br />\n<br />\n<br />\n<br />\n
LOCATION:Davians 16300 W. Silver Spring Drive Menomonee Falls\, WI 53051
UID:e.596.291
SEQUENCE:3
DTSTAMP:20260422T180418Z
URL:http://business.fallschamber.com/events/details/annual-awards-banquet-presented-by-polyak-trucking-01-23-2014-291
END:VEVENT

END:VCALENDAR
