BEGIN:VCALENDAR
VERSION:2.0
PRODID:-//ChamberMaster//Event Calendar 2.0//EN
METHOD:PUBLISH
X-PUBLISHED-TTL:P3D
REFRESH-INTERVAL:P3D
CALSCALE:GREGORIAN
BEGIN:VEVENT
DTSTART:20130925T123000Z
DTEND:20130925T140000Z
X-MICROSOFT-CDO-ALLDAYEVENT:FALSE
SUMMARY:ABLE September 25 2013
DESCRIPTION:ABLE North Meeting\n\n	Participating Chambers:  Menomonee Falls\, Wauwatosa\, Brown Deer and Germantown. ABLE stands for Active Business Leads Exchange.  This breakfast meeting focuses on business relationship building\, receiving and giving leads as well as sharing success stories.
X-ALT-DESC;FMTTYPE=text/html:<p>\n	ABLE North Meeting<br />\n	Participating Chambers:&nbsp\; Menomonee Falls\, Wauwatosa\, Brown Deer and Germantown. ABLE stands for Active Business Leads Exchange.&nbsp\; This breakfast meeting focuses on business relationship building\, receiving and giving leads as well as sharing success stories.</p>\n
LOCATION:Hilton Garden Inn 11600 W. Park Place Milwaukee\, WI 53224
UID:e.596.203
SEQUENCE:3
DTSTAMP:20260422T233941Z
URL:http://business.fallschamber.com/events/details/able-september-25-2013-09-25-2013-203
END:VEVENT

END:VCALENDAR
