BEGIN:VCALENDAR
VERSION:2.0
PRODID:-//ChamberMaster//Event Calendar 2.0//EN
METHOD:PUBLISH
X-PUBLISHED-TTL:P3D
REFRESH-INTERVAL:P3D
CALSCALE:GREGORIAN
BEGIN:VEVENT
DTSTART:20130327T123000Z
DTEND:20130327T140000Z
X-MICROSOFT-CDO-ALLDAYEVENT:FALSE
SUMMARY:ABLE - March 27\, 2013
DESCRIPTION:ABLE North Meeting\n\n	Participating Chambers:  Menomonee Falls\, Wauwatosa\, Brown Deer and Germantown. ABLE stands for Active Business Leads Exchange.  This breakfast meeting focuses on business relationship building\, receiving and giving leads as well as sharing success stories
X-ALT-DESC;FMTTYPE=text/html:<div style="color: gray">\n	<span _fck_bookmark="1" style="display: none">&nbsp\;</span></div>\n<div style="color: gray">\n	ABLE North Meeting<br />\n	Participating Chambers:&nbsp\; Menomonee Falls\, Wauwatosa\, Brown Deer and Germantown. ABLE stands for Active Business Leads Exchange.&nbsp\; This breakfast meeting focuses on business relationship building\, receiving and giving leads as well as sharing success stories</div>\n
LOCATION:Hilton Garden Inn 11600 W. Park Place Milwaukee\, WI 53224
UID:e.596.196
SEQUENCE:3
DTSTAMP:20260423T095423Z
URL:http://business.fallschamber.com/events/details/able-march-27-2013-03-27-2013-196
END:VEVENT

END:VCALENDAR
