BEGIN:VCALENDAR
VERSION:2.0
PRODID:-//ChamberMaster//Event Calendar 2.0//EN
METHOD:PUBLISH
X-PUBLISHED-TTL:P3D
REFRESH-INTERVAL:P3D
CALSCALE:GREGORIAN
BEGIN:VEVENT
DTSTART:20130424T123000Z
DTEND:20130424T140000Z
X-MICROSOFT-CDO-ALLDAYEVENT:FALSE
SUMMARY:ABLE April 24\, 2013
DESCRIPTION:ABLE North Meeting\n\nParticipating Chambers:  Menomonee Falls\, Wauwatosa\, Brown Deer and Germantown. ABLE stands for Active Business Leads Exchange.  This breakfast meeting focuses on business relationship building\, receiving and giving leads as well as sharing success stories.
X-ALT-DESC;FMTTYPE=text/html:ABLE North Meeting<br />\nParticipating Chambers:&nbsp\; Menomonee Falls\, Wauwatosa\, Brown Deer and Germantown. ABLE stands for Active Business Leads Exchange.&nbsp\; This breakfast meeting focuses on business relationship building\, receiving and giving leads as well as sharing success stories.
LOCATION:Hilton Garden Inn 11600 W. Park Place Milwaukee\, WI 53224
UID:e.596.198
SEQUENCE:3
DTSTAMP:20260423T070328Z
URL:http://business.fallschamber.com/events/details/able-april-24-2013-04-24-2013-198
END:VEVENT

END:VCALENDAR
