BEGIN:VCALENDAR
VERSION:2.0
PRODID:-//ChamberMaster//Event Calendar 2.0//EN
METHOD:PUBLISH
X-PUBLISHED-TTL:P3D
REFRESH-INTERVAL:P3D
CALSCALE:GREGORIAN
BEGIN:VEVENT
DTSTART:20130425T220000Z
DTEND:20130426T003000Z
X-MICROSOFT-CDO-ALLDAYEVENT:FALSE
SUMMARY:ABLE After Hours for April
DESCRIPTION:ABLE AFTER HOURS\n\nNine Area Chambers have partnered to bring you this new and exciting networking opportunity!\n\n\n\nParticipating Chambers: Menomonee Falls\, Brookfield\, Wauwatosa\, Greenfield\, Muskego\, South Suburban\, West Allis/West Milwaukee\, Germantown\, Brown Deer/Granville
X-ALT-DESC;FMTTYPE=text/html:<span style="color:#4b0082\;"><strong><span style="font-size: 14px\;">ABLE AFTER HOURS</span></strong></span><br />\n<span style="font-size: 14px\;"><b>Nine Area Chambers have partnered to bring you this new and exciting networking opportunity!</b><br />\n<br />\nParticipating Chambers: Menomonee Falls\, Brookfield\, Wauwatosa\, Greenfield\, Muskego\, South Suburban\, West Allis/West Milwaukee\, Germantown\, Brown Deer/Granville</span>
LOCATION:StoneFire Pizza 5320 S. Moorland Rd. New Berlin\, WI 53151
UID:e.596.223
SEQUENCE:3
DTSTAMP:20260423T070513Z
URL:http://business.fallschamber.com/events/details/able-after-hours-for-april-04-25-2013-223
END:VEVENT

END:VCALENDAR
