BEGIN:VCALENDAR
VERSION:2.0
PRODID:-//ChamberMaster//Event Calendar 2.0//EN
METHOD:PUBLISH
X-PUBLISHED-TTL:P3D
REFRESH-INTERVAL:P3D
CALSCALE:GREGORIAN
BEGIN:VEVENT
DTSTART:20140619T220000Z
DTEND:20140620T003000Z
X-MICROSOFT-CDO-ALLDAYEVENT:FALSE
SUMMARY:ABLE After Hours @ Crowne Plaza Hotel Wauwatosa
DESCRIPTION:This is your opportunity to connect with SIX chambers' members in a structured networking environment at the beautiful Crowne Plaza Hotel: ABLE After Hours! \n\nThursday\, June 19\, 2014\n\n5:00-7:30 p.m.\n\nNew to this event: Members may bring one guest.\n\n \n\nHosted by West Allis/West Milwaukee Chamber\n\nand Wauwatosa Chamber at the\n\n\n\nDelicious appetizers include:\n\n \n\nStationary:\n\nDomestic & Imported Cheese Board with Crackers\n\nCrudite with Dip\n\nArtichoke and Spinach Fondue with Pita Chips\n\nMediterranean Tapas\n\nSeared Ahi on Wonton Chips\n\n \n\nPassed:\n\nFrisee Salad\n\nWalnut Burger Sliders\n\nShort Ribs on Flatbread\n\nMini New York Strip Sandwiches\n\n\n\nMeet + Form Strategic Alliances + Refer Business\n\n5:00 - 5:30 p.m: Registration \n\n5:30 - 6:30 p.m: Organized Networking Activity\n\n6:30 - 7:30 p.m: Open Networking\n\n \n\nActive Business Leads Exchange (ABLE) is where you make connections that count. This is a structured networking opportunity you won't want to miss!\n\n \n\nParticipating Chambers:\n\nGermantown\, Greenfield\,\n\nMenomonee Falls\, South Suburban\,\n\nWauwatosa\, West Allis/West Milwaukee\n\n \n\nBring at least 30 business cards for organized networking activities.
X-ALT-DESC;FMTTYPE=text/html:<strong><span style="color:black\;"><span style="font-family:arial\,sans-serif\;"><span style="font-size:10.0pt\;">This is your opportunity to connect with SIX chambers&#39\; members in a structured networking environment at the beautiful Crowne Plaza Hotel: ABLE After Hours!&nbsp\;</span></span></span></strong><br />\n<strong><span style="color:#0A74DB\;"><span style="font-family:arial\,sans-serif\;"><span style="font-size:10.0pt\;">Thursday\, June 19\, 2014</span></span></span></strong><br />\n<strong><span style="color:#0A74DB\;"><span style="font-family:arial\,sans-serif\;"><span style="font-size:10.0pt\;">5:00-7:30 p.m.</span></span></span></strong><br />\n<em><strong><span style="color:black\;"><span style="font-family:arial\,sans-serif\;"><span style="font-size:10.0pt\;">New to this event: Members may bring one guest.</span></span></span></strong></em><br />\n&nbsp\;<br />\n<em><span style="color:black\;"><span style="font-family:arial\,sans-serif\;"><span style="font-size:10.0pt\;">Hosted by West Allis/West Milwaukee Chamber</span></span></span></em><br />\n<em><span style="color:black\;"><span style="font-family:arial\,sans-serif\;"><span style="font-size:10.0pt\;">and Wauwatosa Chamber at the</span></span></span></em><br />\n<br />\n<strong><u><span style="color:black\;"><span style="font-family:arial\,sans-serif\;"><span style="font-size:10.0pt\;">Delicious appetizers include</span></span></span></u></strong><strong><span style="color:black\;"><span style="font-family:arial\,sans-serif\;"><span style="font-size:10.0pt\;">:</span></span></span></strong><br />\n&nbsp\;<br />\n<em><u><span style="color:black\;"><span style="font-family:arial\,sans-serif\;"><span style="font-size:10.0pt\;">Stationary</span></span></span></u></em><em><span style="color:black\;"><span style="font-family:arial\,sans-serif\;"><span style="font-size:10.0pt\;">:</span></span></span></em><br />\n<em><span style="color:black\;"><span style="font-family:arial\,sans-serif\;"><span style="font-size:10.0pt\;">Domestic &amp\; Imported Cheese Board with Crackers</span></span></span></em><br />\n<em><span style="color:black\;"><span style="font-family:arial\,sans-serif\;"><span style="font-size:10.0pt\;">Crudite with Dip</span></span></span></em><br />\n<em><span style="color:black\;"><span style="font-family:arial\,sans-serif\;"><span style="font-size:10.0pt\;">Artichoke and Spinach Fondue with Pita Chips</span></span></span></em><br />\n<em><span style="color:black\;"><span style="font-family:arial\,sans-serif\;"><span style="font-size:10.0pt\;">Mediterranean Tapas</span></span></span></em><br />\n<em><span style="color:black\;"><span style="font-family:arial\,sans-serif\;"><span style="font-size:10.0pt\;">Seared Ahi on Wonton Chips</span></span></span></em><br />\n&nbsp\;<br />\n<em><u><span style="color:black\;"><span style="font-family:arial\,sans-serif\;"><span style="font-size:10.0pt\;">Passed:</span></span></span></u></em><br />\n<em><span style="color:black\;"><span style="font-family:arial\,sans-serif\;"><span style="font-size:10.0pt\;">Frisee Salad</span></span></span></em><br />\n<em><span style="color:black\;"><span style="font-family:arial\,sans-serif\;"><span style="font-size:10.0pt\;">Walnut Burger Sliders</span></span></span></em><br />\n<em><span style="color:black\;"><span style="font-family:arial\,sans-serif\;"><span style="font-size:10.0pt\;">Short Ribs on Flatbread</span></span></span></em><br />\n<em><span style="color:black\;"><span style="font-family:arial\,sans-serif\;"><span style="font-size:10.0pt\;">Mini New York Strip Sandwiches</span></span></span></em><br />\n<br />\n<em><strong><span style="color:black\;"><span style="font-family:arial\,sans-serif\;"><span style="font-size:11.0pt\;">Meet + Form Strategic Alliances + Refer Business</span></span></span></strong></em><br />\n<span style="color:#0A74DB\;"><span style="font-family:arial\,sans-serif\;"><span style="font-size:10.0pt\;">5:00 - 5:30 p.m: Registration&nbsp\;</span></span></span><br />\n<span style="color:#0A74DB\;"><span style="font-family:arial\,sans-serif\;"><span style="font-size:10.0pt\;">5:30 - 6:30 p.m: Organized Networking Activity</span></span></span><br />\n<span style="color:#0A74DB\;"><span style="font-family:arial\,sans-serif\;"><span style="font-size:10.0pt\;">6:30 - 7:30 p.m: Open Networking</span></span></span><br />\n&nbsp\;<br />\n<span style="color:black\;"><span style="font-family:arial\,sans-serif\;"><span style="font-size:11.0pt\;">Active Business Leads Exchange (ABLE) is where you make connections that count.&nbsp\;<em>This is a structured networking opportunity you won&#39\;t want to miss!</em></span></span></span><br />\n&nbsp\;<br />\n<strong><u><span style="color:black\;"><span style="font-family:arial\,sans-serif\;"><span style="font-size:10.0pt\;">Participating Chambers</span></span></span></u></strong><strong><span style="color:black\;"><span style="font-family:arial\,sans-serif\;"><span style="font-size:10.0pt\;">:</span></span></span></strong><br />\n<span style="color:black\;"><span style="font-family:arial\,sans-serif\;"><span style="font-size:10.0pt\;">Germantown\, Greenfield\,</span></span></span><br />\n<span style="color:black\;"><span style="font-family:arial\,sans-serif\;"><span style="font-size:10.0pt\;">Menomonee Falls\,&nbsp\;South Suburban\,</span></span></span><br />\n<span style="color:black\;"><span style="font-family:arial\,sans-serif\;"><span style="font-size:10.0pt\;">Wauwatosa\,&nbsp\;West Allis/West Milwaukee</span></span></span><br />\n&nbsp\;<br />\n<span style="color:black\;"><span style="font-family:arial\,sans-serif\;"><span style="font-size:10.0pt\;">Bring at least 30 business cards for organized networking activities.</span></span></span><br />\n&nbsp\;
LOCATION:Crowne Plaza Hotel 10499 Innovation Dr Wauwatosa\, WI 53226
UID:e.596.336
SEQUENCE:3
DTSTAMP:20260422T103545Z
URL:http://business.fallschamber.com/events/details/able-after-hours-crowne-plaza-hotel-wauwatosa-06-19-2014-336
END:VEVENT

END:VCALENDAR
