BEGIN:VCALENDAR
VERSION:2.0
PRODID:-//ChamberMaster//Event Calendar 2.0//EN
METHOD:PUBLISH
X-PUBLISHED-TTL:P3D
REFRESH-INTERVAL:P3D
CALSCALE:GREGORIAN
BEGIN:VEVENT
DTSTART:20130627T220000Z
DTEND:20130628T003000Z
X-MICROSOFT-CDO-ALLDAYEVENT:FALSE
SUMMARY:ABLE AFTER Hours
DESCRIPTION:ABLE After Hours\n\n\n\nNINE area chambers coming together to bring you ONE great evening of networking!\n\n\n\nThis is a Members Only event.\n\n\n\nParticipating Chamber: Menomonee Falls\, Brookfield\, Brown Deer/Granville\, Germantown\, Greenfield\, Muskego\, South Suburban\, Wauwatosa\, West Allis/West Milwaukee.
X-ALT-DESC;FMTTYPE=text/html:<span style="font-size:16px\;"><span style="color: rgb(255\, 0\, 0)\;"><strong>ABLE After Hours</strong></span></span><br />\n<br />\n<em><strong>NINE</strong></em> area chambers coming together to bring you <em><strong>ONE</strong></em> great evening of networking!<br />\n<br />\nThis is a Members Only event.<br />\n<br />\nParticipating Chamber: Menomonee Falls\, Brookfield\, Brown Deer/Granville\, Germantown\, Greenfield\, Muskego\, South Suburban\, Wauwatosa\, West Allis/West Milwaukee.<br />\n<br />\n
LOCATION:Summit Place Office Complex - Atrium 6737 W. Washington St. Ste.2141 West Allis\, WI 53214
UID:e.596.226
SEQUENCE:3
DTSTAMP:20260423T042227Z
URL:http://business.fallschamber.com/events/details/able-after-hours-06-27-2013-226
END:VEVENT

END:VCALENDAR
