BEGIN:VCALENDAR
VERSION:2.0
PRODID:-//ChamberMaster//Event Calendar 2.0//EN
METHOD:PUBLISH
X-PUBLISHED-TTL:P3D
REFRESH-INTERVAL:P3D
CALSCALE:GREGORIAN
BEGIN:VEVENT
DTSTART:20130221T230000Z
DTEND:20130222T013000Z
X-MICROSOFT-CDO-ALLDAYEVENT:FALSE
SUMMARY:ABLE After Hours
DESCRIPTION:ABLE AFTER HOURS\n\n	NINE Area Chambers have Partnered to bring you this Networking Opportunity\n\n	\n\n	Participating Chambers:  Menomonee Falls\, Brookfield\, Wauwatosa\, Greenfield\, Muskego\, South Suburban\, West Allis/West Milwaukee\, Germantown\, Brown Deer/Granville\n\n	\n\n	\n\n	APPETIZERS & CASH BAR
X-ALT-DESC;FMTTYPE=text/html:<p>\n	<strong><span style="color: rgb(128\, 0\, 128)\;"><span style="font-size: 16px\;">ABLE AFTER HOURS</span></span></strong></p>\n<p>\n	<strong><span style="color: rgb(128\, 0\, 128)\;"><span style="font-size: 16px\;"><span style="font-size: 12px\;">NINE Area Chambers have Partnered to bring you this Networking Opportunity</span></span></span></strong></p>\n<p>\n	<br />\n	<strong><span style="color: rgb(128\, 0\, 128)\;"><span style="font-size: 16px\;"><span style="font-size: 12px\;">Participating Chambers:&nbsp\; Menomonee Falls\, Brookfield\, Wauwatosa\, Greenfield\, Muskego\, South Suburban\, West Allis/West Milwaukee\, Germantown\, Brown Deer/Granville</span></span></span></strong></p>\n<p>\n	<br />\n	<br />\n	<span style="font-size: 16px\;"><strong>APPETIZERS &amp\;&nbsp\;CASH BAR&nbsp\;</strong></span></p>\n
LOCATION:Dave & Buster's 2201 N. Mayfair Road Wauwatosa\, WI 53226
UID:e.596.219
SEQUENCE:3
DTSTAMP:20260423T111018Z
URL:http://business.fallschamber.com/events/details/able-after-hours-02-21-2013-219
END:VEVENT

END:VCALENDAR
