BEGIN:VCALENDAR
VERSION:2.0
PRODID:-//ChamberMaster//Event Calendar 2.0//EN
METHOD:PUBLISH
X-PUBLISHED-TTL:P3D
REFRESH-INTERVAL:P3D
CALSCALE:GREGORIAN
BEGIN:VEVENT
DTSTART:20141217T133000Z
DTEND:20141217T150000Z
X-MICROSOFT-CDO-ALLDAYEVENT:FALSE
SUMMARY:ABLE (Active Business Leads Exchange) Breakfast 12/17/14
DESCRIPTION:The ABLE Breakfast is your opportunity to exchange business leads with members of the Menomonee Falls\, Germantown\, Wauwatosa and Brown Deer/Granville Chambers of Commerce.\n\n\n\nPlease come prepared with ample business cards\, promotional materials for the  "braggers table" and a thirty second introduction.
X-ALT-DESC;FMTTYPE=text/html:The ABLE Breakfast is your opportunity to exchange business leads with members of the Menomonee Falls\, Germantown\, Wauwatosa and Brown Deer/Granville Chambers of Commerce.<br />\n<br />\nPlease come prepared with ample business cards\, promotional materials for the &nbsp\;&quot\;braggers table&quot\; and a thirty second introduction.<br />\n<br />\n
LOCATION:Hilton Garden Inn 11600 W. Park Place Milwaukee\, WI 53224
UID:e.596.306
SEQUENCE:3
DTSTAMP:20260420T023016Z
URL:http://business.fallschamber.com/events/details/able-active-business-leads-exchange-breakfast-12-17-14-12-17-2014-306
END:VEVENT

END:VCALENDAR
