BEGIN:VCALENDAR
VERSION:2.0
PRODID:-//ChamberMaster//Event Calendar 2.0//EN
METHOD:PUBLISH
X-PUBLISHED-TTL:P3D
REFRESH-INTERVAL:P3D
CALSCALE:GREGORIAN
BEGIN:VEVENT
DTSTART:20140617T180000Z
DTEND:20140617T200000Z
X-MICROSOFT-CDO-ALLDAYEVENT:FALSE
SUMMARY:AAA Ireland and Scotland Travel Event
DESCRIPTION:Meet our Ireland and Scotland travel experts for this special event!  Enjoy refreshments\, discover the must-see highlights and hear insights from the Ireland and Scotland specialists\, Brendan Vacations. You will also receive exclusive savings on your next vacation at this free event.
X-ALT-DESC;FMTTYPE=text/html:Meet our Ireland and Scotland travel experts for this special event!&nbsp\; Enjoy refreshments\, discover the must-see highlights and hear insights from the Ireland and Scotland specialists\, Brendan Vacations. You will also receive exclusive savings on your next vacation at this free event.&nbsp\;
LOCATION:AJ O'Brady's Pub and Grill\, N88 W16495 Main Street\, Menomonee Falls
UID:e.596.334
SEQUENCE:3
DTSTAMP:20260422T114841Z
URL:http://business.fallschamber.com/events/details/aaa-ireland-and-scotland-travel-event-06-17-2014-334
END:VEVENT

END:VCALENDAR
