BEGIN:VCALENDAR
VERSION:2.0
PRODID:-//ChamberMaster//Event Calendar 2.0//EN
METHOD:PUBLISH
X-PUBLISHED-TTL:P3D
REFRESH-INTERVAL:P3D
CALSCALE:GREGORIAN
BEGIN:VEVENT
DTSTART:20131019T140000Z
DTEND:20131019T213000Z
X-MICROSOFT-CDO-ALLDAYEVENT:FALSE
SUMMARY:A Community Affair
DESCRIPTION:"A Community Affair" presented by Community League\, is an arts\, crafts\, collectibles and antiques show that highlights the talents of fine artists.  For over 30 years\, the proceeds from this major fundraiser allowed Community League to donate over $850\,000 to scholarships\, local charities and civic endeavors.  The members of this volunteer organization take great pride in finding exhibitors who create unique\, handmade items to be featured at this event.\n\n\n\nAntiques Appraiser:  Barbara Eash will be available from 9:00 AM to 1:30 PM  $3.00 per item (limit 2 items per turn)  verbal appraisals only - no coins or stamps\n\nBarbara Eash: Certified Appraisers Guild of America\, USPAP Compliant\, Coordinates WI's largest Appraiser Fair\, Milwaukee Public Television\, Antiques Columnist for Reader's Digest\, Country Woman Magazine\n\n\n\nHeld at:  Menomonee Falls High School in the auxiliary gym\, hallway and cafeteria\n\nW142 N8101 Merrimac Drive in Menomonee Falls\, WI located off Appleton Avenue (Hwy 175) at Woosencraft Dr.\n\nOver 80 exhibitors - Silent Auction - Raffles - Luncheon & Snack Bar - Fabulous Desserts\, Homemade Bakery & Treats\n\nAdmission is $4.00\n\nALL proceeds go to charity\n\nSorry\, NO strollers\n\n\n\nTo volunteer for A Community Affair call: 414-581-0352 or email: cleague@communityleague.com\n\nFor exhibitor information go to http://www.communityleague.com\n\n\n\nFor a list of our 2013 charity reciepients\, please go to our website:  http://www.communityleague.com
X-ALT-DESC;FMTTYPE=text/html:<strong><em>&quot\;A Community Affair&quot\;</em></strong> presented by Community League\, is an arts\, crafts\, collectibles and antiques show that highlights the talents of fine artists.&nbsp\; For over 30 years\, the proceeds from this major fundraiser allowed Community League to donate over $850\,000 to scholarships\, local charities and civic endeavors.&nbsp\; The members of this volunteer organization take great pride in finding exhibitors who create unique\, handmade items to be featured at this event.<br />\n<br />\n<strong>Antiques Appraiser:&nbsp\; Barbara Eash</strong> will be available from 9:00 AM to 1:30 PM&nbsp\; $3.00 per item (limit 2 items per turn)&nbsp\; verbal appraisals only - no coins or stamps<br />\nBarbara Eash: Certified Appraisers Guild of America\, USPAP Compliant\, Coordinates WI&#39\;s largest Appraiser Fair\, Milwaukee Public Television\, Antiques Columnist for Reader&#39\;s Digest\, Country Woman Magazine<br />\n<br />\nHeld at:&nbsp\; Menomonee Falls High School in the auxiliary gym\, hallway and cafeteria<br />\nW142 N8101 Merrimac Drive in Menomonee Falls\, WI located off Appleton Avenue (Hwy 175) at Woosencraft Dr.<br />\nOver 80 exhibitors - Silent Auction - Raffles - Luncheon &amp\; Snack Bar - Fabulous Desserts\, Homemade Bakery &amp\; Treats<br />\nAdmission is $4.00<br />\n<strong><u>ALL</u> proceeds go to charity</strong><br />\n<strong>Sorry\, <u>NO</u> strollers</strong><br />\n<br />\nTo volunteer for A Community Affair call: 414-581-0352 or email: cleague@communityleague.com<br />\nFor exhibitor information go to http://www.communityleague.com<br />\n<br />\nFor a list of our 2013 charity reciepients\, please go to our website:&nbsp\; http://www.communityleague.com
LOCATION:Menomonee Falls High School
UID:e.596.264
SEQUENCE:3
DTSTAMP:20260422T220943Z
URL:http://business.fallschamber.com/events/details/a-community-affair-10-19-2013-264
END:VEVENT

END:VCALENDAR
