BEGIN:VCALENDAR
VERSION:2.0
PRODID:-//ChamberMaster//Event Calendar 2.0//EN
METHOD:PUBLISH
X-PUBLISHED-TTL:P3D
REFRESH-INTERVAL:P3D
CALSCALE:GREGORIAN
BEGIN:VEVENT
DTSTART;VALUE=DATE:20141018
DTEND;VALUE=DATE:20141019
TRANSP:TRANSPARENT
X-MICROSOFT-CDO-ALLDAYEVENT:TRUE
SUMMARY:4th Annual Trimathlon
DESCRIPTION:4th Annual Trimathlon\n\n\n\nA Fun-Filled Math Event for kids in grades 2\,3\,4\,&5
X-ALT-DESC;FMTTYPE=text/html:4th Annual Trimathlon<br />\n<br />\nA Fun-Filled Math Event for kids in grades 2\,3\,4\,&amp\;5
LOCATION:Mathnasium of Menomonee Falls N78W14569 Appleton Ave. Menomonee Falls\, WI 53051
UID:e.596.378
SEQUENCE:3
DTSTAMP:20260420T040257Z
URL:http://business.fallschamber.com/events/details/4th-annual-trimathlon-10-18-2014-378
END:VEVENT

END:VCALENDAR
