BEGIN:VCALENDAR
VERSION:2.0
PRODID:-//ChamberMaster//Event Calendar 2.0//EN
METHOD:PUBLISH
X-PUBLISHED-TTL:P3D
REFRESH-INTERVAL:P3D
CALSCALE:GREGORIAN
BEGIN:VEVENT
DTSTART;VALUE=DATE:20130819
DTEND;VALUE=DATE:20130820
TRANSP:TRANSPARENT
X-MICROSOFT-CDO-ALLDAYEVENT:TRUE
SUMMARY:2013 Menomonee Falls Chamber of Commerce Golf Outing
DESCRIPTION:9: 30 AM: Registration\n\n11:00 AM: Shotgun Start\n\n\n\nThe annual Golf Outing is the chamber's BIG day of FUN in the sun! Every August over 140 Chamber members and their guests participate in 18 holes of golf at our areas premiere private club\, North Hills country Club\, and an evening of networking\, dinner\, a live auction and awards.\n\n\n\nSupport of this event enables the Chamber to keep membership dues at a minimum and still provide quality services and programs.
X-ALT-DESC;FMTTYPE=text/html:<span style="color:#006400\;">9: 30 AM: Registration<br />\n11:00 AM: Shotgun Start<br />\n<br />\nThe annual Golf Outing is the chamber&#39\;s <strong>BIG</strong> day of <strong>FUN</strong> in the sun! Every August over 140 Chamber members and their guests participate in 18 holes of golf at our areas premiere private club\, North Hills country Club\, and an evening of networking\, dinner\, a live auction and awards.</span><br />\n<br />\n<span style="font-size:10px\;">Support of this event enables the Chamber to keep membership dues at a minimum and still provide quality services and programs.</span>&nbsp\;
LOCATION:North Hills Country Club N73 W13430 Appleton Ave. Menomonee Falls\, WI 53051
UID:e.596.225
SEQUENCE:3
DTSTAMP:20260423T023837Z
URL:http://business.fallschamber.com/events/details/2013-menomonee-falls-chamber-of-commerce-golf-outing-08-19-2013-225
END:VEVENT

END:VCALENDAR
